BEGIN:VCALENDAR
VERSION:2.0
PRODID:-//EducationScape - ECPv6.15.16//NONSGML v1.0//EN
CALSCALE:GREGORIAN
METHOD:PUBLISH
X-ORIGINAL-URL:https://educationscape.com
X-WR-CALDESC:Events for EducationScape
REFRESH-INTERVAL;VALUE=DURATION:PT1H
X-Robots-Tag:noindex
X-PUBLISHED-TTL:PT1H
BEGIN:VTIMEZONE
TZID:Europe/London
BEGIN:DAYLIGHT
TZOFFSETFROM:+0000
TZOFFSETTO:+0100
TZNAME:BST
DTSTART:20250330T010000
END:DAYLIGHT
BEGIN:STANDARD
TZOFFSETFROM:+0100
TZOFFSETTO:+0000
TZNAME:GMT
DTSTART:20251026T010000
END:STANDARD
BEGIN:DAYLIGHT
TZOFFSETFROM:+0000
TZOFFSETTO:+0100
TZNAME:BST
DTSTART:20260329T010000
END:DAYLIGHT
BEGIN:STANDARD
TZOFFSETFROM:+0100
TZOFFSETTO:+0000
TZNAME:GMT
DTSTART:20261025T010000
END:STANDARD
BEGIN:DAYLIGHT
TZOFFSETFROM:+0000
TZOFFSETTO:+0100
TZNAME:BST
DTSTART:20270328T010000
END:DAYLIGHT
BEGIN:STANDARD
TZOFFSETFROM:+0100
TZOFFSETTO:+0000
TZNAME:GMT
DTSTART:20271031T010000
END:STANDARD
END:VTIMEZONE
BEGIN:VEVENT
DTSTART;VALUE=DATE:20260302
DTEND;VALUE=DATE:20260304
DTSTAMP:20260426T034618
CREATED:20260108T091902Z
LAST-MODIFIED:20260110T120928Z
UID:10000117-1772409600-1772582399@educationscape.com
SUMMARY:Apprenticeships and Training Conference 2026
DESCRIPTION:The Apprenticeships and Training Conference (ATC) 2026 returns this March for two energising days at ACC Liverpool\, bringing together the people who are shaping the future of skills\, apprenticeships and workforce development. \nFollowing a standout\, record-breaking 2025\, ATC 2026 lands at a pivotal moment for the sector. As the Government’s Skills Reform agenda gathers pace\, this is your opportunity to step back\, take stock and explore how a more employer-led\, flexible and future-focused system can unlock productivity\, growth and opportunity across the UK. \nATC is not just a conference – it’s where policy meets practice. Across two packed days\, you’ll hear from inspiring voices\, engage in practical debate\, and leave with ideas and insights you can take straight back into your organisation. \nUnmissable keynote speakers \nATC 2026 will be anchored by powerful keynote sessions from: \n\nFrancesca Martinez\, on inclusion\, resilience and removing barriers to potential\nChloe Combi\, offering vital insight into Gen Z\, culture and the future workforce\nOwen O’Kane\, exploring wellbeing\, performance and leadership in demanding systems.\n\n  \nPlus lot’s more. Join us for two days of excellent content culminating in the Apprenticeship and Training Awards hosted by comedian Sara Pascoe. Book your tickets for the event here.
URL:https://educationscape.com/upcoming-event/the-apprenticeships-training-conference
LOCATION:ACC Liverpool\, King's Dock\, Port of Liverpool\, Kings Dock St\,\, Liverpool\, England\, L3 4FP\, United Kingdom
CATEGORIES:Apprenticeships,Conference
ATTACH;FMTTYPE=image/jpeg:https://educationscape.com/wp-content/uploads/2026/01/ATC-2026-Listing-2160x1215-1.jpg
ORGANIZER;CN="EducationScape":MAILTO:info@educationscape.com
END:VEVENT
END:VCALENDAR