BEGIN:VCALENDAR
VERSION:2.0
PRODID:-//EducationScape - ECPv6.15.16//NONSGML v1.0//EN
CALSCALE:GREGORIAN
METHOD:PUBLISH
X-ORIGINAL-URL:https://educationscape.com
X-WR-CALDESC:Events for EducationScape
REFRESH-INTERVAL;VALUE=DURATION:PT1H
X-Robots-Tag:noindex
X-PUBLISHED-TTL:PT1H
BEGIN:VTIMEZONE
TZID:Europe/London
BEGIN:DAYLIGHT
TZOFFSETFROM:+0000
TZOFFSETTO:+0100
TZNAME:BST
DTSTART:20250330T010000
END:DAYLIGHT
BEGIN:STANDARD
TZOFFSETFROM:+0100
TZOFFSETTO:+0000
TZNAME:GMT
DTSTART:20251026T010000
END:STANDARD
BEGIN:DAYLIGHT
TZOFFSETFROM:+0000
TZOFFSETTO:+0100
TZNAME:BST
DTSTART:20260329T010000
END:DAYLIGHT
BEGIN:STANDARD
TZOFFSETFROM:+0100
TZOFFSETTO:+0000
TZNAME:GMT
DTSTART:20261025T010000
END:STANDARD
BEGIN:DAYLIGHT
TZOFFSETFROM:+0000
TZOFFSETTO:+0100
TZNAME:BST
DTSTART:20270328T010000
END:DAYLIGHT
BEGIN:STANDARD
TZOFFSETFROM:+0100
TZOFFSETTO:+0000
TZNAME:GMT
DTSTART:20271031T010000
END:STANDARD
END:VTIMEZONE
BEGIN:VEVENT
DTSTART;VALUE=DATE:20260418
DTEND;VALUE=DATE:20260419
DTSTAMP:20260426T001648
CREATED:20260112T111501Z
LAST-MODIFIED:20260113T061933Z
UID:10000120-1776470400-1776556799@educationscape.com
SUMMARY:China Festival of Education
DESCRIPTION:The 9th China Festival of Education will return to Wellington College Education (China) in April 2026. The Festival of Education is a unique one-day festival that brings together learners\, practitioners\, thought leaders and visionary changemakers to share ideas\, network\, and develop research-informed methods to shape the future of teaching and learning. \nAt the heart of the China Festival of Education is the belief that learning should be engaging\, inspiring\, and enjoyable. The festival features a diverse mix of seasoned professionals and emerging voices through compelling keynote sessions\, practical workshops\, project spotlights\, professional meetups\, networking opportunities\, student performances\, and more. \nTo book your tickets\, visit the Festival website. \n 
URL:https://educationscape.com/upcoming-event/china-festival-of-education
LOCATION:Wellington College International Shanghai\, 100 Haiyang W Rd\, Pudong\, Shanghai\, 200126
CATEGORIES:Festival
ATTACH;FMTTYPE=image/png:https://educationscape.com/wp-content/uploads/2026/01/China.png
ORGANIZER;CN="EducationScape":MAILTO:info@educationscape.com
END:VEVENT
END:VCALENDAR