BEGIN:VCALENDAR
VERSION:2.0
PRODID:-//EducationScape - ECPv6.15.16//NONSGML v1.0//EN
CALSCALE:GREGORIAN
METHOD:PUBLISH
X-ORIGINAL-URL:https://educationscape.com
X-WR-CALDESC:Events for EducationScape
REFRESH-INTERVAL;VALUE=DURATION:PT1H
X-Robots-Tag:noindex
X-PUBLISHED-TTL:PT1H
BEGIN:VTIMEZONE
TZID:Europe/London
BEGIN:DAYLIGHT
TZOFFSETFROM:+0000
TZOFFSETTO:+0100
TZNAME:BST
DTSTART:20250330T010000
END:DAYLIGHT
BEGIN:STANDARD
TZOFFSETFROM:+0100
TZOFFSETTO:+0000
TZNAME:GMT
DTSTART:20251026T010000
END:STANDARD
BEGIN:DAYLIGHT
TZOFFSETFROM:+0000
TZOFFSETTO:+0100
TZNAME:BST
DTSTART:20260329T010000
END:DAYLIGHT
BEGIN:STANDARD
TZOFFSETFROM:+0100
TZOFFSETTO:+0000
TZNAME:GMT
DTSTART:20261025T010000
END:STANDARD
BEGIN:DAYLIGHT
TZOFFSETFROM:+0000
TZOFFSETTO:+0100
TZNAME:BST
DTSTART:20270328T010000
END:DAYLIGHT
BEGIN:STANDARD
TZOFFSETFROM:+0100
TZOFFSETTO:+0000
TZNAME:GMT
DTSTART:20271031T010000
END:STANDARD
END:VTIMEZONE
BEGIN:VEVENT
DTSTART;TZID=Europe/London:20260423T150000
DTEND;TZID=Europe/London:20260423T180000
DTSTAMP:20260426T001646
CREATED:20260311T164948Z
LAST-MODIFIED:20260311T173011Z
UID:10000137-1776956400-1776967200@educationscape.com
SUMMARY:Level 3 Award in Education and Training
DESCRIPTION:The Level 3 Award in Education and Training is an introductory teaching qualification designed for individuals who want to begin a career in teaching or training. It is suitable for a wide range of trainee teachers\, including those who are not yet teaching\, those currently delivering training\, and assessors who would like to gain a recognised qualification that introduces them to teaching. \nThe qualification aims to prepare learners for employment and support progression into a teaching or training role within the workplace. \nOur delivery team is widely recognised for raising standards in teaching\, learning and assessment across the sector. With extensive experience in leadership\, quality improvement\, and frontline practice\, we support providers to strengthen provision\, improve outcomes\, and embed a culture of excellence. \nThis qualification will begin through online study on Thursday 23 April 2026 at 15:00-18:00 and be followed by further online delivery\, tutorial workshops\, online microteaches\, plus continuous support and collaboration via our EduScape platform.  \nEntry Guidance\nThere are no formal entry requirements for this qualification. However\, learners will complete an initial assessment of their personal skills in English\, mathematics and ICT. \nThis qualification is suitable for learners aged 19+. \nMode of Delivery\nThe qualification will be delivered online over 12 weeks. \nProgression Opportunities\nLearners who complete this qualification may go on to further study in related areas such as: \n• IAO Level 4 Certificate in Education and Training\n• Assessor and Verifier Qualifications \nCourse Duration\nWe expect you to complete this course within 12 months\, although most learners complete it within 4–6 months. \nContact a member of the team to find out more or reserve your place on the course here.  \n 
URL:https://educationscape.com/upcoming-event/level-3-award-in-education-and-training
CATEGORIES:Online,Qualifications,Teaching, learning and assessment
ATTACH;FMTTYPE=image/webp:https://educationscape.com/wp-content/uploads/2026/03/L3-Award-in-Education-and-Training-230426.webp
END:VEVENT
END:VCALENDAR