BEGIN:VCALENDAR
VERSION:2.0
PRODID:-//EducationScape - ECPv6.15.16//NONSGML v1.0//EN
CALSCALE:GREGORIAN
METHOD:PUBLISH
X-WR-CALNAME:EducationScape
X-ORIGINAL-URL:https://educationscape.com
X-WR-CALDESC:Events for EducationScape
REFRESH-INTERVAL;VALUE=DURATION:PT1H
X-Robots-Tag:noindex
X-PUBLISHED-TTL:PT1H
BEGIN:VTIMEZONE
TZID:Europe/London
BEGIN:DAYLIGHT
TZOFFSETFROM:+0000
TZOFFSETTO:+0100
TZNAME:BST
DTSTART:20250330T010000
END:DAYLIGHT
BEGIN:STANDARD
TZOFFSETFROM:+0100
TZOFFSETTO:+0000
TZNAME:GMT
DTSTART:20251026T010000
END:STANDARD
BEGIN:DAYLIGHT
TZOFFSETFROM:+0000
TZOFFSETTO:+0100
TZNAME:BST
DTSTART:20260329T010000
END:DAYLIGHT
BEGIN:STANDARD
TZOFFSETFROM:+0100
TZOFFSETTO:+0000
TZNAME:GMT
DTSTART:20261025T010000
END:STANDARD
BEGIN:DAYLIGHT
TZOFFSETFROM:+0000
TZOFFSETTO:+0100
TZNAME:BST
DTSTART:20270328T010000
END:DAYLIGHT
BEGIN:STANDARD
TZOFFSETFROM:+0100
TZOFFSETTO:+0000
TZNAME:GMT
DTSTART:20271031T010000
END:STANDARD
END:VTIMEZONE
BEGIN:VEVENT
DTSTART;TZID=Europe/London:20260506T100000
DTEND;TZID=Europe/London:20260506T130000
DTSTAMP:20260425T223324
CREATED:20260310T132150Z
LAST-MODIFIED:20260409T131941Z
UID:10000135-1778061600-1778072400@educationscape.com
SUMMARY:Apprenticeship Funding Assurance Reviews for 2025/26
DESCRIPTION:With the continued evolution of apprenticeship funding compliance and the publication of new DfE working papers for 2025/26\, the expectations placed on providers are once again shifting. To help you stay ahead of these changes\, EducationScape is proud to present a focused\, one-part webinar designed to give you the clarity and confidence you need ahead of your next funding assurance review. \nDelivered in collaboration with Karl Bentley\, Director of Funding Assurance at Validera\, this in-depth session will concentrate solely on apprenticeship funding assurance reviews for 2025/26. The session will also explore key DSAT issues that providers are currently encountering and how these are being interpreted within funding assurance reviews. \nTaking place on 6th May\, this live webinar will provide practical\, detailed guidance to help you understand the latest DfE approach and what it means for your organisation. \nApprenticeships remain one of the most complex and scrutinised funding streams in the further education and skills sector. With new DfE working papers now in circulation\, it is critical that providers understand both the technical requirements and the practical realities of audit and review. \nIn this session\, Karl Bentley will: \n\nWalk through the new 2025/26 DfE apprenticeship working papers\nExplain sample sizes\, materiality and error thresholds\nClarify the 100% review process and what triggers it\nProvide a step-by-step breakdown of key working paper questions\nOutline the evidence auditors expect to see\nHighlight key DSAT issues and what they reveal about funding data risks\nHighlight common pitfalls\, do’s and don’ts\, and lessons from real funding assurance reviews\n\n  \nKarl’s insights\, drawn from years of experience in funding assurance\, will help you prepare thoroughly and avoid the common mistakes that lead to clawbacks. \nA live Q&A will follow the session\, giving you the opportunity to raise your specific concerns and gain clarity on areas of risk within your own provision. \nWho should attend? \nThis webinar is essential for: \n\nSenior Leaders\nFinance Directors\nFunding and Compliance Managers\nMIS Leads\nInternal Audit and Quality Teams\n\n  \nIf you are responsible for protecting your organisation from funding risk and ensuring audit readiness\, this session will give you the tools and insight needed to approach 2025/26 with confidence. \nSpaces are expected to fill quickly – secure your place and ensure you are fully prepared for the year ahead. \nJoin live or watch later on demand at a time that suits you. \n 
URL:https://educationscape.com/upcoming-event/apprenticeship-funding-assurance-reviews-for-2025-26
CATEGORIES:Apprenticeships,Audit, Funding and MIS,Funding Assurance,Online (Zoom)
ATTACH;FMTTYPE=image/webp:https://educationscape.com/wp-content/uploads/2026/03/Apprenticeship-Funding-Assurance-060526.webp
END:VEVENT
END:VCALENDAR