BEGIN:VCALENDAR
VERSION:2.0
PRODID:-//EducationScape - ECPv6.15.16//NONSGML v1.0//EN
CALSCALE:GREGORIAN
METHOD:PUBLISH
X-ORIGINAL-URL:https://educationscape.com
X-WR-CALDESC:Events for EducationScape
REFRESH-INTERVAL;VALUE=DURATION:PT1H
X-Robots-Tag:noindex
X-PUBLISHED-TTL:PT1H
BEGIN:VTIMEZONE
TZID:Europe/London
BEGIN:DAYLIGHT
TZOFFSETFROM:+0000
TZOFFSETTO:+0100
TZNAME:BST
DTSTART:20250330T010000
END:DAYLIGHT
BEGIN:STANDARD
TZOFFSETFROM:+0100
TZOFFSETTO:+0000
TZNAME:GMT
DTSTART:20251026T010000
END:STANDARD
BEGIN:DAYLIGHT
TZOFFSETFROM:+0000
TZOFFSETTO:+0100
TZNAME:BST
DTSTART:20260329T010000
END:DAYLIGHT
BEGIN:STANDARD
TZOFFSETFROM:+0100
TZOFFSETTO:+0000
TZNAME:GMT
DTSTART:20261025T010000
END:STANDARD
BEGIN:DAYLIGHT
TZOFFSETFROM:+0000
TZOFFSETTO:+0100
TZNAME:BST
DTSTART:20270328T010000
END:DAYLIGHT
BEGIN:STANDARD
TZOFFSETFROM:+0100
TZOFFSETTO:+0000
TZNAME:GMT
DTSTART:20271031T010000
END:STANDARD
END:VTIMEZONE
BEGIN:VEVENT
DTSTART;TZID=Europe/London:20260514T100000
DTEND;TZID=Europe/London:20260514T123000
DTSTAMP:20260425T223638
CREATED:20260312T111846Z
LAST-MODIFIED:20260325T172022Z
UID:10000139-1778752800-1778761800@educationscape.com
SUMMARY:Level 3 Award in Assessing Vocationally Related Achievement
DESCRIPTION:This qualification is designed for individuals who assess vocational skills\, knowledge and understanding in environments other than the workplace\, such as a workshop\, classroom\, or other training environment. \nThe qualification is assessed through the submission of a portfolio of evidence\, allowing learners to demonstrate their competence across a range of assessment practices. \nThis course will begin on Thursday 14 May 2025\, 10:00–12:30\, with a 2.5-hour online session. This will be followed by further online classes and tutorial workshops\, along with continuous support and collaboration through our EduScape platform. \nEntry Guidance\nThere are no formal entry requirements for this qualification. It is suitable for individuals who work within the assessing sector and provides an opportunity to demonstrate competence across a wide range of job roles. \nMode of Delivery\nThe qualification content will be delivered online through a flexible and accessible approach in a supportive group environment. \nProgression Opportunities\nLearners who achieve this qualification could progress into employment in the assessing sector or to further learning\, such as: \n• IAO Level 4 Award in Understanding the Internal Quality Assurance of Assessment Processes\n• IAO Level 4 Certificate in Leading the Internal Quality Assurance of Assessment Processes and Practices \nCourse Duration\nWe expect you to complete this course within 12 months\, although most learners complete it within 6–9 months. \nContact a member of the team to find out more or register your interest in the course here.
URL:https://educationscape.com/upcoming-event/level-3-award-in-assessing-vocationally-related-achievement
CATEGORIES:Online,Qualifications,Teaching, learning and assessment
ATTACH;FMTTYPE=image/webp:https://educationscape.com/wp-content/uploads/2026/03/L3-Award-in-Assessing-Vocationally-Related-Achievement-140526.webp
END:VEVENT
END:VCALENDAR