BEGIN:VCALENDAR
VERSION:2.0
PRODID:-//EducationScape - ECPv6.15.16//NONSGML v1.0//EN
CALSCALE:GREGORIAN
METHOD:PUBLISH
X-WR-CALNAME:EducationScape
X-ORIGINAL-URL:https://educationscape.com
X-WR-CALDESC:Events for EducationScape
REFRESH-INTERVAL;VALUE=DURATION:PT1H
X-Robots-Tag:noindex
X-PUBLISHED-TTL:PT1H
BEGIN:VTIMEZONE
TZID:Europe/London
BEGIN:DAYLIGHT
TZOFFSETFROM:+0000
TZOFFSETTO:+0100
TZNAME:BST
DTSTART:20250330T010000
END:DAYLIGHT
BEGIN:STANDARD
TZOFFSETFROM:+0100
TZOFFSETTO:+0000
TZNAME:GMT
DTSTART:20251026T010000
END:STANDARD
BEGIN:DAYLIGHT
TZOFFSETFROM:+0000
TZOFFSETTO:+0100
TZNAME:BST
DTSTART:20260329T010000
END:DAYLIGHT
BEGIN:STANDARD
TZOFFSETFROM:+0100
TZOFFSETTO:+0000
TZNAME:GMT
DTSTART:20261025T010000
END:STANDARD
BEGIN:DAYLIGHT
TZOFFSETFROM:+0000
TZOFFSETTO:+0100
TZNAME:BST
DTSTART:20270328T010000
END:DAYLIGHT
BEGIN:STANDARD
TZOFFSETFROM:+0100
TZOFFSETTO:+0000
TZNAME:GMT
DTSTART:20271031T010000
END:STANDARD
END:VTIMEZONE
BEGIN:VEVENT
DTSTART;TZID=Europe/London:20260520T080000
DTEND;TZID=Europe/London:20260520T170000
DTSTAMP:20260425T175144
CREATED:20260108T091902Z
LAST-MODIFIED:20260309T112149Z
UID:10000118-1779264000-1779296400@educationscape.com
SUMMARY:Training and Technology Summit
DESCRIPTION:The Training and Technology Summit is a one-day event dedicated to helping educators harness the power of technology to improve teaching\, learning and institutional impact. Bringing together experts\, innovators and practitioners from across the education sector\, the Summit provides a focused space to explore the latest developments in AI\, edtech and digital practice. \nAttendees will gain fresh insights\, practical strategies and essential updates to support the effective adoption and embedding of technology across their organisations. Sessions will explore topics including the use of AI in education\, creative approaches to classroom delivery\, and practical guidance on challenges such as managing mobile phone use. \nThe Training and Technology Summit will feature expert-led sessions\, hands-on workshops and opportunities to connect with peers from across the education sector. Designed for digital leaders\, educators and support staff alike\, the event offers practical ideas and real-world solutions to help institutions make confident decisions about technology. \nThere will also be oppotunities to meet partners and exhibitors showcasing the latest innovations supporting training\, skills and technology. \nWith a strong focus on impact\, the Summit aims to equip attendees with the knowledge\, tools and connections needed to drive meaningful change through technology in education. \nRegister now to secure your place at the Training and Technology Summit 2026. Group discounts available.
URL:https://educationscape.com/upcoming-event/training-and-technology-summit-2
LOCATION:Etc County Hall\, County Hall\, Belvedere Rd\, London\, England\, SE1 7PB\, United Kingdom
CATEGORIES:AI,Conference,Digital technologies
ATTACH;FMTTYPE=image/png:https://educationscape.com/wp-content/uploads/2026/01/Training-and-technology-summit-TTS-pop-up-desktop-2000x1000px.png
END:VEVENT
END:VCALENDAR