BEGIN:VCALENDAR
VERSION:2.0
PRODID:-//EducationScape - ECPv6.15.16//NONSGML v1.0//EN
CALSCALE:GREGORIAN
METHOD:PUBLISH
X-ORIGINAL-URL:https://educationscape.com
X-WR-CALDESC:Events for EducationScape
REFRESH-INTERVAL;VALUE=DURATION:PT1H
X-Robots-Tag:noindex
X-PUBLISHED-TTL:PT1H
BEGIN:VTIMEZONE
TZID:Europe/London
BEGIN:DAYLIGHT
TZOFFSETFROM:+0000
TZOFFSETTO:+0100
TZNAME:BST
DTSTART:20250330T010000
END:DAYLIGHT
BEGIN:STANDARD
TZOFFSETFROM:+0100
TZOFFSETTO:+0000
TZNAME:GMT
DTSTART:20251026T010000
END:STANDARD
BEGIN:DAYLIGHT
TZOFFSETFROM:+0000
TZOFFSETTO:+0100
TZNAME:BST
DTSTART:20260329T010000
END:DAYLIGHT
BEGIN:STANDARD
TZOFFSETFROM:+0100
TZOFFSETTO:+0000
TZNAME:GMT
DTSTART:20261025T010000
END:STANDARD
BEGIN:DAYLIGHT
TZOFFSETFROM:+0000
TZOFFSETTO:+0100
TZNAME:BST
DTSTART:20270328T010000
END:DAYLIGHT
BEGIN:STANDARD
TZOFFSETFROM:+0100
TZOFFSETTO:+0000
TZNAME:GMT
DTSTART:20271031T010000
END:STANDARD
END:VTIMEZONE
BEGIN:VEVENT
DTSTART;VALUE=DATE:20260606
DTEND;VALUE=DATE:20260607
DTSTAMP:20260425T210300
CREATED:20260112T160008Z
LAST-MODIFIED:20260112T160008Z
UID:10000123-1780704000-1780790399@educationscape.com
SUMMARY:The Netherlands Festival of Education
DESCRIPTION:For the very first time\, one of the world’s most inspiring and forward-thinking education events is coming to The Netherlands. Originally founded by Wellington College in the UK in 2010\, the Festival of Education brings together educators from across the globe for a day of impactful professional learning\, meaningful conversations\, and powerful connections. \nThe Netherlands Festival of Education is a unique professional learning event that brings together a vibrant community of international educators. Taking place for the first time in The Hague on Saturday 6th June 2026\, the Festival marks the start of an exciting new chapter in this global movement\, right in the heart of Europe. \nCelebrating innovation and collaboration in education\, the Festival welcomes teachers\, school leaders\, and education professionals from across the Netherlands\, wider Europe\, and beyond. It offers an inclusive and inspiring space designed to challenge thinking\, spark creativity\, and connect those shaping the future of learning. \nFar more than a traditional conference\, the Festival features engaging sessions\, influential speakers\, and interactive experiences\, all within a welcoming and energising atmosphere. Whether you’re in the classroom\, leading a school\, or supporting education in another way\, you’ll find opportunities to share ideas\, build connections\, and grow professionally. \nJoin us in The Hague this June and be part of a global community reimagining education together. \nTo book your tickets\, visit the Festival website.
URL:https://educationscape.com/upcoming-event/the-netherlands-festival-of-education
LOCATION:Edith Stein College\, Edith Stein College\, Louis Couperusplein 33\, 2514 HP\, Den Haag\, Netherlands
CATEGORIES:Festival
ATTACH;FMTTYPE=image/png:https://educationscape.com/wp-content/uploads/2026/01/Netherlands.png
ORGANIZER;CN="EducationScape":MAILTO:info@educationscape.com
END:VEVENT
END:VCALENDAR