BEGIN:VCALENDAR
VERSION:2.0
PRODID:-//EducationScape - ECPv6.15.16//NONSGML v1.0//EN
CALSCALE:GREGORIAN
METHOD:PUBLISH
X-WR-CALNAME:EducationScape
X-ORIGINAL-URL:https://educationscape.com
X-WR-CALDESC:Events for EducationScape
REFRESH-INTERVAL;VALUE=DURATION:PT1H
X-Robots-Tag:noindex
X-PUBLISHED-TTL:PT1H
BEGIN:VTIMEZONE
TZID:Europe/London
BEGIN:DAYLIGHT
TZOFFSETFROM:+0000
TZOFFSETTO:+0100
TZNAME:BST
DTSTART:20250330T010000
END:DAYLIGHT
BEGIN:STANDARD
TZOFFSETFROM:+0100
TZOFFSETTO:+0000
TZNAME:GMT
DTSTART:20251026T010000
END:STANDARD
BEGIN:DAYLIGHT
TZOFFSETFROM:+0000
TZOFFSETTO:+0100
TZNAME:BST
DTSTART:20260329T010000
END:DAYLIGHT
BEGIN:STANDARD
TZOFFSETFROM:+0100
TZOFFSETTO:+0000
TZNAME:GMT
DTSTART:20261025T010000
END:STANDARD
BEGIN:DAYLIGHT
TZOFFSETFROM:+0000
TZOFFSETTO:+0100
TZNAME:BST
DTSTART:20270328T010000
END:DAYLIGHT
BEGIN:STANDARD
TZOFFSETFROM:+0100
TZOFFSETTO:+0000
TZNAME:GMT
DTSTART:20271031T010000
END:STANDARD
END:VTIMEZONE
BEGIN:VEVENT
DTSTART;TZID=Europe/London:20260623T090000
DTEND;TZID=Europe/London:20260623T163000
DTSTAMP:20260426T001211
CREATED:20260108T091902Z
LAST-MODIFIED:20260316T165017Z
UID:10000116-1782205200-1782232200@educationscape.com
SUMMARY:AI and Assessment: Making it work for all
DESCRIPTION:Join leading education expert Daisy Christodoulou for a focused and thought-provoking training day exploring the realities of AI in assessment and what schools must do to respond effectively. \nThis course is structured around three linked sessions that move from understanding to challenges to solutions. \nThe day begins with the big picture: what AI can and cannot do\, providing a clear\, accessible overview of AI and large language models\, their strengths and limitations\, and the current good and bad uses of AI in education. You will also explore how AI is likely to develop in the coming years and the key barriers and complexities that will shape its improvement. \nThe second session\, AI and assessment: the challenges\, examines the profound implications AI has for current assessment practices\, with a focus on extended written assessments. You will explore the problems AI poses for reliable summative grading\, the difficulties of using AI to provide high-quality formative feedback\, and the growing issue of AI plagiarism and its impact on traditional homework and assessment models. \nThe final session\, AI and Assessment: the solutions\, focuses on practical responses. Bring your laptop as this will be a hands-on session where you will gain an in-depth understanding of No More Marking’s new AI features for extended written assessments. You will take part in Comparative Judgement of real student writing\, see if you agree with the AI\, evaluate the effectiveness of different types of automated feedback\, and understand how you can use all of these features in your school. \nThroughout the day\, participants will gain a realistic\, evidence-informed understanding of how AI can be used thoughtfully and responsibly in schools\, without undermining learning\, assessment or professional judgement. \nWho should attend? \n\nSenior leaders and headteachers shaping assessment and AI strategy\nClassroom teachers navigating AI’s impact on marking and feedback\, particularly teachers of subjects with large amounts of written assessment\nAssessment leads\nEdTech and digital strategy leads\nSuitable for primary\, secondary and FE.\n\n  \nWhether you are at the very beginning of your AI journey or already grappling with its impact in your school\, this course will provide clarity\, practical insight and concrete solutions. \nLimited spaces available\, book now to secure your place. \nBook your place before 31 January 2026 to benefit from a 15% discount.
URL:https://educationscape.com/upcoming-event/ai-and-assessment-making-it-work-for-all
LOCATION:EdCity\, EdCity Walk\, London\, W12 7TF
CATEGORIES:AI,Digital technologies,EdCity - In person,Teaching, learning and assessment
ATTACH;FMTTYPE=image/png:https://educationscape.com/wp-content/uploads/2026/01/AI-and-Assessment-23rd-June-26.png
ORGANIZER;CN="EducationScape Training & Events":MAILTO:training@educationscape.com
END:VEVENT
END:VCALENDAR