BEGIN:VCALENDAR
VERSION:2.0
PRODID:-//EducationScape - ECPv6.15.16//NONSGML v1.0//EN
CALSCALE:GREGORIAN
METHOD:PUBLISH
X-WR-CALNAME:EducationScape
X-ORIGINAL-URL:https://educationscape.com
X-WR-CALDESC:Events for EducationScape
REFRESH-INTERVAL;VALUE=DURATION:PT1H
X-Robots-Tag:noindex
X-PUBLISHED-TTL:PT1H
BEGIN:VTIMEZONE
TZID:Europe/London
BEGIN:DAYLIGHT
TZOFFSETFROM:+0000
TZOFFSETTO:+0100
TZNAME:BST
DTSTART:20250330T010000
END:DAYLIGHT
BEGIN:STANDARD
TZOFFSETFROM:+0100
TZOFFSETTO:+0000
TZNAME:GMT
DTSTART:20251026T010000
END:STANDARD
BEGIN:DAYLIGHT
TZOFFSETFROM:+0000
TZOFFSETTO:+0100
TZNAME:BST
DTSTART:20260329T010000
END:DAYLIGHT
BEGIN:STANDARD
TZOFFSETFROM:+0100
TZOFFSETTO:+0000
TZNAME:GMT
DTSTART:20261025T010000
END:STANDARD
BEGIN:DAYLIGHT
TZOFFSETFROM:+0000
TZOFFSETTO:+0100
TZNAME:BST
DTSTART:20270328T010000
END:DAYLIGHT
BEGIN:STANDARD
TZOFFSETFROM:+0100
TZOFFSETTO:+0000
TZNAME:GMT
DTSTART:20271031T010000
END:STANDARD
END:VTIMEZONE
BEGIN:VEVENT
DTSTART;VALUE=DATE:20261003
DTEND;VALUE=DATE:20261004
DTSTAMP:20260426T052751
CREATED:20260112T152741Z
LAST-MODIFIED:20260113T065049Z
UID:10000122-1790985600-1791071999@educationscape.com
SUMMARY:Washington\, D.C. Festival of Education
DESCRIPTION:The Washington\, D.C. Festival of Education is a unique professional learning event that brings together a vibrant and diverse community of educators. Now in its fourth year\, the Festival enters an exciting new chapter as it moves to the British International School of Washington\, right in the heart of the nation’s capital\, on Saturday 3rd October 2026. \nBuilding on three successful years that welcomed hundreds of educators from across the United States and beyond\, the Festival has become a flagship gathering for anyone working in education. It offers an inclusive and inspiring space for learning\, dialogue\, and collaboration. \nAt the heart of the Festival is the belief that professional development should be engaging\, energising\, and joyful. Far from a traditional conference\, it brings together thought-provoking sessions\, influential voices\, and interactive experiences\, all designed to spark meaningful conversations and build lasting connections. \nGuided by the principle “where those who inspire find their own inspiration” the Washington\, D.C. Festival of Education celebrates bold ideas\, encourages fresh thinking\, and champions the innovation shaping today’s education landscape. \nJoin us in the capital for a day of learning\, reflection\, and inspiration \nTo book your tickets\, visit the Festival website.
URL:https://educationscape.com/upcoming-event/washington-d-c-festival-of-education
LOCATION:British International School of Washington\, 2001 Wisconsin Avenue Northwest\, Washington\, DC\, DC\, 20007\, United States
CATEGORIES:Festival
ATTACH;FMTTYPE=image/png:https://educationscape.com/wp-content/uploads/2026/01/USA.png
END:VEVENT
END:VCALENDAR