BEGIN:VCALENDAR
VERSION:2.0
PRODID:-//EducationScape - ECPv6.15.16//NONSGML v1.0//EN
CALSCALE:GREGORIAN
METHOD:PUBLISH
X-ORIGINAL-URL:https://educationscape.com
X-WR-CALDESC:Events for EducationScape
REFRESH-INTERVAL;VALUE=DURATION:PT1H
X-Robots-Tag:noindex
X-PUBLISHED-TTL:PT1H
BEGIN:VTIMEZONE
TZID:Europe/London
BEGIN:DAYLIGHT
TZOFFSETFROM:+0000
TZOFFSETTO:+0100
TZNAME:BST
DTSTART:20240331T010000
END:DAYLIGHT
BEGIN:STANDARD
TZOFFSETFROM:+0100
TZOFFSETTO:+0000
TZNAME:GMT
DTSTART:20241027T010000
END:STANDARD
BEGIN:DAYLIGHT
TZOFFSETFROM:+0000
TZOFFSETTO:+0100
TZNAME:BST
DTSTART:20250330T010000
END:DAYLIGHT
BEGIN:STANDARD
TZOFFSETFROM:+0100
TZOFFSETTO:+0000
TZNAME:GMT
DTSTART:20251026T010000
END:STANDARD
BEGIN:DAYLIGHT
TZOFFSETFROM:+0000
TZOFFSETTO:+0100
TZNAME:BST
DTSTART:20260329T010000
END:DAYLIGHT
BEGIN:STANDARD
TZOFFSETFROM:+0100
TZOFFSETTO:+0000
TZNAME:GMT
DTSTART:20261025T010000
END:STANDARD
END:VTIMEZONE
BEGIN:VEVENT
DTSTART;TZID=Europe/London:20251203T100000
DTEND;TZID=Europe/London:20251203T113000
DTSTAMP:20260426T020338
CREATED:20250617T144602Z
LAST-MODIFIED:20260118T073441Z
UID:10000098-1764756000-1764761400@educationscape.com
SUMMARY:Quality Assurance Network | Autumn Event
DESCRIPTION:  \nWatch live and/or access the recording \nQuality Assurance Network | Autumn Event\nJoin the Autumn Network Event for expert insights on quality assurance and improvement initiatives that aim to drive high standards across education.\nJoin leaders\, educators and other professionals at the Autumn Quality Assurance Network for vital updates from Ofsted plus other insightful strategies aimed at improving and enhancing quality practices. \nDecember 3\n@\n10:00 am\n–\n11:30 am\nGMT \nRegister \n \nUnable to join us live? Don’t worry\, sign up and watch on demand.  \nWho is this event for? \nThis event is designed for those who lead on quality assurance and quality improvement within their school\, college or training provider. The Quality Assurance Network’s Autumn Event will unite senior leaders\, curriculum managers\, educators and practitioners\, providing support for those who share a commitment to deliver the highest standards of education and training. \nWhy attend? \nThis vibrant new termly event offers a collaborative space that encourages the sharing of effective practice\, explores innovations\, and provides updates on key developments. The Autumn Term Event fosters this approach through the sharing of important updates and information\, innovative thinking to address common challenges\, and ultimately empowering attendees to drive positive change within their organisations. \nThis term we are delighted to include: \n\nAn update and guidance from Ofsted on current thinking and next steps.\nInput from The Duchess’s Community High School\, Alnwick on the positive impact their sustainable quality improvement model is having for staff.\nAnd\, how Blackpool and the Fylde College are using structured and adaptive quality practices to provide support across the organisation.\n\nWhat to expect \nJoin EducationScape’s Co-Directors Karen Plowman and Jo Shirley\, along with Senior HMI Dr Richard Beynon\, James Wilson and Dr Jonathan Hills to discover useful approaches\, technologies and strategies to maximise and support quality across your organisation. \nThe Quality Assurance Network is more than just a meeting it’s a community of dedicated professionals who are all committed to ongoing high-quality provision for their staff and learners. So\, join us at our Autumn Event to learn\, share and meet with others in similar roles across the sector to improve excellence in the quality of education and training. \nTogether we can make a difference. \nBook your spot from 1st September using discount code: NEWTERM2025 to benefit from a 20% discount. Offer ends on 30th September. \nRegister now to secure your spot! \nSpeakers\n \n\n\nKaren Plowman\nTraining and Professional Development Co‑Director\, EducationScape\n\nJo Shirley\nTraining and Professional Development Co‑Director\, EducationScape\n\nDr Jonathan Hills\nLearning\, Teaching and Assessment Manager\, Blackpool and the Fylde College \nPlan\, create and code internet sites and web pages. \n \nSenior leaders\, curriculum managers\, educators and other practitioners who lead on quality assurance and quality improvement across schools\, colleges\, and training providers.\n  \nOnline Event\n  \n10:00-11:30\, Wednesday 03 December\n  \nWatch live and/or access the recording\n  \n£75 inc VAT\nWe accept all major credit/debit cards. \nAgenda\n10:00 – 11:30 | Live webinar \n(Agenda subject to change) \n« All Events
URL:https://educationscape.com/upcoming-event/quality-assurance-network-autumn-event
LOCATION:West Midlands
CATEGORIES:Leadership and management,Quality assurance,Quality Assurance Network,Teaching, learning and assessment
ATTACH;FMTTYPE=image/png:https://educationscape.com/wp-content/uploads/2025/06/Quality-Assurance-Network-6.png
ORGANIZER;CN="EducationScape Training & Events":MAILTO:training@educationscape.com
END:VEVENT
BEGIN:VEVENT
DTSTART;TZID=Europe/London:20251203T083000
DTEND;TZID=Europe/London:20251203T160000
DTSTAMP:20260426T020338
CREATED:20250725T111346Z
LAST-MODIFIED:20260118T074141Z
UID:10000102-1764750600-1764777600@educationscape.com
SUMMARY:Winter Data and Funding Conference
DESCRIPTION:Winter Data and Funding Conference\nA must attend one-day event for FE data and funding professionals\nJoin the Winter Data and Funding Conference 2025 for a day packed with valuable insights\, expert knowledge\, and practical guidance. This one-day event is tailored for data and funding professionals in the further education sector\, offering a focused experience you won’t want to miss. \nDecember 3\n@\n8:30 am\n–\n4:00 pm\nGMT\n\nBuy Tickets on Eventbrite\n\nBuy Tickets \nJoin us this winter for an unmissable day of insight\, expertise\, and practical guidance at the Winter Data and Funding Conference 2025\, a focused one-day event designed specifically for data and funding professionals working across the further education sector. \nHeld at EdCity\, London this conference will bring together sector leaders\, funding specialists\, and assurance experts to explore the latest developments\, trends\, and challenges in education funding. \nWhat to expect: \n\nDepartment for Education (DfE) Funding Reviews and insights: stay informed with essential updates from the DfE\, including policy changes\, funding reviews\, and how these affect colleges and training providers.\nCommon issues and how to avoid them: discover practical steps to avoid funding pitfalls\, with expert-led sessions focusing on real-world case studies and assurance findings.\nLive Q&A opportunities: engage with leading experts and ask your most pressing questions about funding data\, assurance\, and compliance.\n\n  \nKey sessions include: \n\nFunding assurance themes from 2024/25: Delivered by Lisa Smith and Emma Gipson\, RSM – get the inside track on the most common themes and issues arising from the latest round of DfE funding assurance reviews. This in-depth session will also look ahead to 2025/26\, offering early insights into expected assurance requirements and working papers.\nCaroline Charlton\,  Head of Data Assurance\, Office for Students – learn about how the Office for Students uses data from colleges. Hear about common issues found through OfS data audit\, and how to avoid them.\nFunding challenges in a devolved landscape: Delivered by Emma Davison\, Funding Data Manager\, NCG – learn how one of the UK’s largest college groups is navigating the complexities of working with multiple devolved authorities\, and the operational changes made in response.\nPDSAT for 2025/26: Delivered by Karl Bentley\, Director of Funding Assurance\, Validera – this session will focus on PDSAT developments for 2025/26 (subject to release)\, highlighting what to look for and how to prepare your data for audit readiness.\n\n  \nMore sessions to be announced shortly. \nWho should attend? \n\nMIS teams\nFunding managers\nData leads\nCompliance officers\nSenior leaders\nGovernors that are responsible for audit and financial oversight.\n\n  \nThe event is also useful for anyone involved in funding assurance or data management within further education colleges\, training providers\, and adult education institutions. \nPlaces are limited – don’t miss your chance to stay ahead of the curve in funding assurance and data compliance. Book now and benefit from a 30% discount. Offer ends on the 30 September.  \n  \nSpeakers\n \n\n\nLisa Smith\nDirector\, RSM\n\nEmma Gipson\nManager\, RSM\n\nKarl Bentley\nDirector of Funding Assurance\, Validera\n\nEmma Davison\nFunding Data Manager\, NCG\n\nCaroline Charlton\nHead of Data Assurance\, Office for Students\n \nMIS teams\, funding managers\, data leads\, compliance officers\, senior leaders and governors.\n  \nEdCity\, 1EdCity Walk\, London\, W12 7TN\n  \nWednesday 3rd December 2025\n  \n£168 excl. VAT. Price includes 30% discount. Standard price £240. Book before the 30 September to benefit from the discount.\nWe accept all major credit/debit cards. Payment on invoice available for organisations. \nAgenda\n08:30 – 09:30 | Registration & welcome refreshments \n09:30 – 11:00 | Session One \n11:00 – 11:30 | Morning Break \n11:30 –13:00 | Session Two \n13:00 –13:45 | Lunch \n13:45 -15:30 | Session Three \n15:30 -16:00 | Closing Session \n(Agenda subject to change) \n« All Events
URL:https://educationscape.com/upcoming-event/winter-data-and-funding-conference
LOCATION:EdCity\, EdCity Walk\, London\, W12 7TF
CATEGORIES:Audit, Funding and MIS,EdCity - In person,Leadership and management
ATTACH;FMTTYPE=image/png:https://educationscape.com/wp-content/uploads/2025/07/NEW-ESTE-Website-event-graphics1.png
END:VEVENT
END:VCALENDAR