BEGIN:VCALENDAR
VERSION:2.0
PRODID:-//EducationScape - ECPv6.15.16//NONSGML v1.0//EN
CALSCALE:GREGORIAN
METHOD:PUBLISH
X-ORIGINAL-URL:https://educationscape.com
X-WR-CALDESC:Events for EducationScape
REFRESH-INTERVAL;VALUE=DURATION:PT1H
X-Robots-Tag:noindex
X-PUBLISHED-TTL:PT1H
BEGIN:VTIMEZONE
TZID:Europe/London
BEGIN:DAYLIGHT
TZOFFSETFROM:+0000
TZOFFSETTO:+0100
TZNAME:BST
DTSTART:20250330T010000
END:DAYLIGHT
BEGIN:STANDARD
TZOFFSETFROM:+0100
TZOFFSETTO:+0000
TZNAME:GMT
DTSTART:20251026T010000
END:STANDARD
BEGIN:DAYLIGHT
TZOFFSETFROM:+0000
TZOFFSETTO:+0100
TZNAME:BST
DTSTART:20260329T010000
END:DAYLIGHT
BEGIN:STANDARD
TZOFFSETFROM:+0100
TZOFFSETTO:+0000
TZNAME:GMT
DTSTART:20261025T010000
END:STANDARD
BEGIN:DAYLIGHT
TZOFFSETFROM:+0000
TZOFFSETTO:+0100
TZNAME:BST
DTSTART:20270328T010000
END:DAYLIGHT
BEGIN:STANDARD
TZOFFSETFROM:+0100
TZOFFSETTO:+0000
TZNAME:GMT
DTSTART:20271031T010000
END:STANDARD
END:VTIMEZONE
BEGIN:VEVENT
DTSTART;TZID=Europe/London:20261106T083000
DTEND;TZID=Europe/London:20261106T153000
DTSTAMP:20260425T225752
CREATED:20260318T180526Z
LAST-MODIFIED:20260403T085919Z
UID:10000140-1793953800-1793979000@educationscape.com
SUMMARY:Teach Like a Champion Live in Bangkok: The Science of Reading in Action
DESCRIPTION:Join Doug Lemov for an exclusive training event in Bangkok. This one-day professional learning experience offers educators the opportunity to learn directly from one of the world’s most influential voices in teaching and learning. \nDrawing on the latest research from cognitive science and the principles explored in The Teach Like a Champion Guide to the Science of Reading\, this highly practical workshop will unpack how students become powerful readers after phonics\, and what great literacy instruction looks like from primary through to secondary education and beyond. \nThroughout the day\, Doug will translate research into clear\, actionable classroom techniques. Using video from outstanding classrooms\, curriculum examples and guided practice\, participants will explore how to strengthen reading comprehension\, build knowledge\, and develop students who read with confidence\, fluency\, and purpose. \nWhat you’ll explore \nThis workshop focuses particularly on the language comprehension strand of Scarborough’s Reading Rope\, making it ideal for educators working with Grade 2 and above across English and other subject areas. \nKey themes include: \n\nThe critical role of background knowledge in reading comprehension\nThe critical and overlooked challenge of disfluency\nStrategies for building and sustaining student attention\nCreating strong communities of readers through shared reading\nUsing purposeful writing to deepen understanding of texts\nDeveloping vocabulary and knowledge systematically\nApproaches to text complexity and close reading across subjects\nThe research supporting the reading of whole books in English classrooms.\n\n  \nDoug will also share seven key principles for developing strong readers “post-phonics”\, the stage when students have mastered letter–sound correspondence but must now learn how to read increasingly complex texts throughout their academic journey. \nA practical\, high-impact learning experience \nParticipants will: \n\nPractise instructional techniques that strengthen literacy teaching\nExplore lesson examples and curriculum materials developed by Doug and his team\nWatch and analyse video from top classrooms\nDevelop strategies that can be applied across all subject areas\nLeave with resources and materials to use immediately in their schools\n\n  \nIn case you haven’t read Doug’s new book here’s what Daniel Willingham has to say about it: \n“I love this book. Every teacher who asks their students to read will find it becomes the most worn on their shelf; it’s a wellspring of clear explanation of the science of reading\, and practical strategies for helping students become successful readers.” \nAnd here’s what a school head in Washington\, D.C. had to say: \n“This book is simply PHENOMENAL to guide an adolescent literacy program. The text features an ideal mix of research and practical insights that I can implement tomorrow in our classrooms.” \nEvent details \n\nVenue: A premium hotel in central Bangkok\nPrice: £250 ((฿10\,763) per person add on a ticket to the Thailand Festival of Education for an extra £75 ((฿3\,235).\nIncludes: Lunch\, refreshments\, and workshop resources\n\n  \nWhy attend? \nThis is a rare opportunity to learn directly from Doug in an intimate workshop setting. Whether you teach English\, humanities\, science or any other subject\, the strategies explored will help you build stronger readers\, deepen comprehension\, and strengthen classroom practice. \nBook before the 30 April and save 20%.
URL:https://educationscape.com/upcoming-event/teach-like-a-champion-live-in-bangkok-the-science-of-reading-in-action
LOCATION:Grande Centre Point Prestige Bangkok\, 153 ถนนราชดำริห์ Pathum Wan\, Krung Thep Maha Nakhon\, Bangkok\, 10330\, Thailand
CATEGORIES:Teaching, learning and assessment
ATTACH;FMTTYPE=image/png:https://educationscape.com/wp-content/uploads/2026/03/Doug-Lemov-event-FOE-thailand-speaker-eventbrite-1920x1080px-2.png
ORGANIZER;CN="EducationScape Training & Events":MAILTO:training@educationscape.com
END:VEVENT
BEGIN:VEVENT
DTSTART;VALUE=DATE:20261107
DTEND;VALUE=DATE:20261108
DTSTAMP:20260425T225752
CREATED:20260126T152847Z
LAST-MODIFIED:20260321T134430Z
UID:10000124-1794009600-1794095999@educationscape.com
SUMMARY:Thailand Festival of Education
DESCRIPTION:The 4th Thailand Festival of Education will return to Wellington College International School Bangkok on Saturday 7th November 2026. Now in its fourth year\, the Festival of Education is a unique one-day event that brings together educators\, school leaders\, and education professionals from across the region and beyond to share ideas\, connect\, and explore research-informed approaches that shape the future of teaching and learning. \nOriginally founded by Wellington College in the UK in 2010\, the Festival is built on the belief that professional learning should be engaging\, inspiring\, and enjoyable. The Thailand Festival of Education features a vibrant mix of influential voices and emerging perspectives through thought-provoking keynote sessions\, interactive workshops\, meaningful conversations\, and collaborative experiences. Far more than a traditional conference\, the Festival offers a welcoming and energising space that reflects the values at the heart of the Wellington College community. \nTo book your tickets\, visit the Festival website.
URL:https://educationscape.com/upcoming-event/thailand-festival-of-education
LOCATION:Wellington College International School Bangkok\, 18 Krungthep Kreetha Rd\, Thap Chang\, Saphan Sung\, Bangkok\, 10250\, Thailand
CATEGORIES:Festival
ATTACH;FMTTYPE=image/png:https://educationscape.com/wp-content/uploads/2026/01/Thailand-1.png
ORGANIZER;CN="EducationScape":MAILTO:info@educationscape.com
END:VEVENT
END:VCALENDAR